BEGIN:VCALENDAR
VERSION:2.0
PRODID:-//Gateshed Harriers and AC - ECPv5.1.4//NONSGML v1.0//EN
CALSCALE:GREGORIAN
METHOD:PUBLISH
X-WR-CALNAME:Gateshed Harriers and AC
X-ORIGINAL-URL:https://gatesheadharriers.com
X-WR-CALDESC:Events for Gateshed Harriers and AC
BEGIN:VTIMEZONE
TZID:UTC
BEGIN:STANDARD
TZOFFSETFROM:+0000
TZOFFSETTO:+0000
TZNAME:UTC
DTSTART:20200101T000000
END:STANDARD
END:VTIMEZONE
BEGIN:VEVENT
DTSTART;VALUE=DATE:20200314
DTEND;VALUE=DATE:20200316
DTSTAMP:20260423T142017
CREATED:20191112T160433Z
LAST-MODIFIED:20191112T160433Z
UID:14438-1584144000-1584316799@gatesheadharriers.com
SUMMARY:England U15/U17 Combined Events
DESCRIPTION:Entry Standard required \n
URL:https://gatesheadharriers.com/event/england-u15-u17-combined-events
LOCATION:Sheffield\, Woodburn Road Stadium\, Sheffield\, S9 3HL\, United Kingdom
ATTACH;FMTTYPE=image/jpeg:https://gatesheadharriers.com/wp-content/uploads/2018/03/Medals.jpg
END:VEVENT
END:VCALENDAR