BEGIN:VCALENDAR
VERSION:2.0
PRODID:-//Gateshed Harriers and AC - ECPv5.1.4//NONSGML v1.0//EN
CALSCALE:GREGORIAN
METHOD:PUBLISH
X-WR-CALNAME:Gateshed Harriers and AC
X-ORIGINAL-URL:https://gatesheadharriers.com
X-WR-CALDESC:Events for Gateshed Harriers and AC
BEGIN:VTIMEZONE
TZID:UTC
BEGIN:STANDARD
TZOFFSETFROM:+0000
TZOFFSETTO:+0000
TZNAME:UTC
DTSTART:20220101T000000
END:STANDARD
END:VTIMEZONE
BEGIN:VEVENT
DTSTART;TZID=UTC:20220501T090000
DTEND;TZID=UTC:20220501T120000
DTSTAMP:20260423T141704
CREATED:20191231T173230Z
LAST-MODIFIED:20220313T195716Z
UID:14502-1651395600-1651406400@gatesheadharriers.com
SUMMARY:Gateshead Half Marathon
DESCRIPTION:\nGATESHEAD HALF MARATHON – SUNDAY 1st May 2022\nSTART TIME – 9.00AM\nROAD CLOSED course taking in the famous landmarks of Gateshead including Gateshead Millennium Bridge\, Sage Gateshead\, BALTIC\, Tyne Bridge\, Swing Bridge and finishing in the iconic Gateshead International Stadium. \nGateshead International Stadium is the third largest sporting venue in Tyne and Wear and the North East’s only IAAF-standard athletics stadium. The venue has hosted IAAF Diamond & Golden League Athletics and the European Cup featuring the superstars of athletics. You will be joining many World Champions & Olympians have crossed the finish line at Gateshead International Stadium where five world records broken in track and field on the famous track. \nThis ROAD CLOSED half marathon starts on the Felling By-Pass and heads towards Heworth roundabout before turning and running towards Gateshead roundabout and then back towards Gateshead International Stadium. The course will then head down to the picturesque Quayside area and will pass the iconic Gateshead Millennium Bridge\, Sage Gateshead\, BALTIC Centre For Contemporary Arts\, run under the iconic Tyne Bridge and past the historic Swing Bridge before turning back to pass these landmarks again. The course then re-joins the Felling By-Pass and heads once again to Heworth roundabout and Gateshead Roundabout before entering the world famous Gateshead International Stadium and finishing by running around the track and crossing the finish line cheered home by family and friends. \nYOUR ENTRY WILL INCLUDE:\nChip timed results \nUnique themed medal \nFree official event photos \nFruit & flapjacks \nCome and enjoy the day with us; we hope to see you there! \nEach mile is accurately marked out with distance flags and we have plenty of helpers to keep you on track and to encourage you on your way to the finish. \nONCE YOU ENTER YOU WILL RECEIVE A CONFIRMATION EMAIL. MORE INFORMATION ABOUT YOUR RACE PACK AND THE BIG DAY WILL BE SENT CLOSER TO THE EVENT – ENJOY!\n
URL:https://gatesheadharriers.com/event/gateshead-half-marathon
LOCATION:Gateshead International Stadium\, Nielsen Road\, Gateshead
CATEGORIES:Races
ATTACH;FMTTYPE=image/jpeg:https://gatesheadharriers.com/wp-content/uploads/2019/12/Quayside-feat.-BALTIC-Gateshead-Millennium-Bridge-Sage-Gateshead-Tyne-Bridge-Swing-Bridge-4.jpg
ORGANIZER;CN="Chris%20Parr":MAILTO:chris@runningnortheast.co.uk
END:VEVENT
END:VCALENDAR