BEGIN:VCALENDAR
VERSION:2.0
PRODID:-//Gateshed Harriers and AC - ECPv5.1.4//NONSGML v1.0//EN
CALSCALE:GREGORIAN
METHOD:PUBLISH
X-WR-CALNAME:Gateshed Harriers and AC
X-ORIGINAL-URL:https://gatesheadharriers.com
X-WR-CALDESC:Events for Gateshed Harriers and AC
BEGIN:VTIMEZONE
TZID:UTC
BEGIN:STANDARD
TZOFFSETFROM:+0000
TZOFFSETTO:+0000
TZNAME:UTC
DTSTART:20200101T000000
END:STANDARD
END:VTIMEZONE
BEGIN:VEVENT
DTSTART;TZID=UTC:20200206T173000
DTEND;TZID=UTC:20200206T213000
DTSTAMP:20260423T155815
CREATED:20190922T144105Z
LAST-MODIFIED:20190922T144105Z
UID:14340-1581010200-1581024600@gatesheadharriers.com
SUMMARY:Indoor Series Match 4
DESCRIPTION: \n
URL:https://gatesheadharriers.com/event/indoor-series-match-4
LOCATION:gateshead coll\, Gateshead\, United Kingdom
ATTACH;FMTTYPE=image/jpeg:https://gatesheadharriers.com/wp-content/uploads/2018/12/GF4_9180.jpg
ORGANIZER;CN="Gateshead%20Harriers%20%26%20AC":MAILTO:office@gatesheadharriers.com
END:VEVENT
END:VCALENDAR